BEGIN:VCALENDAR
VERSION:2.0
PRODID:-//Atilla Sarikaya - ECPv6.15.20//NONSGML v1.0//EN
CALSCALE:GREGORIAN
METHOD:PUBLISH
X-ORIGINAL-URL:http://atilla-sarikaya.de
X-WR-CALDESC:Veranstaltungen für Atilla Sarikaya
REFRESH-INTERVAL;VALUE=DURATION:PT1H
X-Robots-Tag:noindex
X-PUBLISHED-TTL:PT1H
BEGIN:VTIMEZONE
TZID:Europe/Berlin
BEGIN:DAYLIGHT
TZOFFSETFROM:+0100
TZOFFSETTO:+0200
TZNAME:CEST
DTSTART:20220327T010000
END:DAYLIGHT
BEGIN:STANDARD
TZOFFSETFROM:+0200
TZOFFSETTO:+0100
TZNAME:CET
DTSTART:20221030T010000
END:STANDARD
BEGIN:DAYLIGHT
TZOFFSETFROM:+0100
TZOFFSETTO:+0200
TZNAME:CEST
DTSTART:20230326T010000
END:DAYLIGHT
BEGIN:STANDARD
TZOFFSETFROM:+0200
TZOFFSETTO:+0100
TZNAME:CET
DTSTART:20231029T010000
END:STANDARD
BEGIN:DAYLIGHT
TZOFFSETFROM:+0100
TZOFFSETTO:+0200
TZNAME:CEST
DTSTART:20240331T010000
END:DAYLIGHT
BEGIN:STANDARD
TZOFFSETFROM:+0200
TZOFFSETTO:+0100
TZNAME:CET
DTSTART:20241027T010000
END:STANDARD
END:VTIMEZONE
BEGIN:VEVENT
DTSTART;TZID=Europe/Berlin:20231008T080000
DTEND;TZID=Europe/Berlin:20231008T180000
DTSTAMP:20260423T152504
CREATED:20231006T081729Z
LAST-MODIFIED:20231006T081729Z
UID:659-1696752000-1696788000@atilla-sarikaya.de
SUMMARY:Landtagswahl Hessen
DESCRIPTION:Wählen Sie am 08. Oktober 2023 DIE LINKE! \nEine Stimme für DIE LINKE ist eine Stimme für: \n\nSoziale Sicherheit und gute Arbeit\nBezahlbare Mieten und ein sicheres Zuhause\nRüstungskonversion und Frieden\nKlimagerechte Zukunft durch Energie-\, Verkehrs- und Agrarwende\nGerechte Bildung für alle\nGleichwertige Lebensverhältnisse in Stadt und Land\nVorrang für das Öffentliche und ein gut ausgebautes Gemeinwesen\n\n 
URL:http://atilla-sarikaya.de/termin/landtagswahl-hessen/
LOCATION:Hessen
CATEGORIES:Veranstaltung
END:VEVENT
BEGIN:VEVENT
DTSTART;TZID=Europe/Berlin:20231005T150000
DTEND;TZID=Europe/Berlin:20231005T200000
DTSTAMP:20260423T152504
CREATED:20230911T193101Z
LAST-MODIFIED:20230911T193101Z
UID:642-1696518000-1696536000@atilla-sarikaya.de
SUMMARY:Gregor Gysi und Janine Wissler am Opernplatz
DESCRIPTION:Am 5.10. kommen Gregor Gysi und Janine Wissler zum Opernplatz.
URL:http://atilla-sarikaya.de/termin/gregor-gysi-und-janine-wissler-am-opernplatz/
LOCATION:Opernplatz Kassel\, Friedrichsplatz\, Kassel
CATEGORIES:Veranstaltung
END:VEVENT
BEGIN:VEVENT
DTSTART;TZID=Europe/Berlin:20230916T150000
DTEND;TZID=Europe/Berlin:20230916T170000
DTSTAMP:20260423T152504
CREATED:20230911T193248Z
LAST-MODIFIED:20230911T193248Z
UID:644-1694876400-1694883600@atilla-sarikaya.de
SUMMARY:Solidaritätskundgebung für die feministische Revolution im Iran
DESCRIPTION:Vor einem Jahr am 16. September starb Jina Mahsa Amini nach Inhaftierung durch die iranische Sittenpolizei. Ihr Tod war der Beginn einer großen Bewegung gegen das iranische Regime. Die Menschen kämpfen weiterhin\, im Iran\, aber auch weltweit. In Kassel an fast allen Samstagen seitdem. Anlässlich des Jahrestag findet Freitag eine Veranstaltung in der Treppe 4 statt\, und Samstags eine Solidaritätsdemonstration mit den Protestierenden im Iran. Kommt dazu\, lasst uns gemeinsam all der Getöteten und Inhaftierten gedenken und gemeinsam laut sein. Hoch die internationale Solidarität!
URL:http://atilla-sarikaya.de/termin/solidaritaetskundgebung-fuer-die-feministische-revolution-im-iran/
LOCATION:Opernplatz Kassel\, Friedrichsplatz\, Kassel
CATEGORIES:Veranstaltung
END:VEVENT
BEGIN:VEVENT
DTSTART;TZID=Europe/Berlin:20230915T180000
DTEND;TZID=Europe/Berlin:20230915T200000
DTSTAMP:20260423T152504
CREATED:20230911T193403Z
LAST-MODIFIED:20230911T193403Z
UID:648-1694800800-1694808000@atilla-sarikaya.de
SUMMARY:Podiumsdiskussion Bildungspolitik GEW Nordhessen
DESCRIPTION:Das neue Schuljahr hat begonnen und die Landtagswahlen stehen vor der Tür. Die hessische Bildungspolitik muss das Mega-Thema im Wahlkampf werden.Podiumsdiskussion zur Bildungspolitik\nmit Kandidat:innen für den hessischen Landtag \n\nAlexander Grotov (CDU)\,\nJulia Herz (Bündis90/Die Grünen)\,\nAtilla Sarikaya (Die Linke)\,\nN.N\, FDP\,\nDr. Ron-Hendrik Hechelmann (SPD)
URL:http://atilla-sarikaya.de/termin/podiumsdiskussion-bildungspolitik-gew-nordhessen/
LOCATION:Stadtteilzentrum Vorderer Westen\, Elfbuchenstr. 3\, Kassel\, 34119
CATEGORIES:Veranstaltung
END:VEVENT
BEGIN:VEVENT
DTSTART;TZID=Europe/Berlin:20230915T120000
DTEND;TZID=Europe/Berlin:20230915T150000
DTSTAMP:20260423T152504
CREATED:20230911T193528Z
LAST-MODIFIED:20230911T193528Z
UID:651-1694779200-1694790000@atilla-sarikaya.de
SUMMARY:Fridays for Future Klimastreik
DESCRIPTION:  \n\n\n\n\n\n\n\n\n\n\n\n\n\nAm Freitag\, den 15. September 2023 geht Fridays for Future wieder an hunderten Orten in ganz Deutschland zum globalen Klimastreik auf die Straße. Aber warum eigentlich? Alice und Manuel erklären es! \n\n\n\nDürren\, Hitzewellen\, Waldbrände\, Starkregen – die Klimakrise eskaliert spürbar. Viele Menschen sind unglaublich besorgt\, denn neben der Klimakrise gewinnen populistische Parteien Stimmen und die wirtschaftliche Lage ist unsicher. Aber nach jahrelanger politischer Ignoranz gegenüber ihren Anliegen sind diese Menschen auch erschöpft und desillusioniert. \nRegierungen handeln nicht. Statt versprochener “Zeitenwende” und wirksamen Maßnahmen für Klimagerechtigkeit will die Bundesregierung das Klimaschutzgesetz abschwächen und weigert sich\, im Koalitionsvertrag festgeschriebene Maßnahmen wie das Klimageld umzusetzen. \nDoch auch wenn Olaf Scholz und seine Regierung uns ignorieren und die fossile Industrie versucht\, uns zu zermürben\, wissen wir: Wir haben etwas besseres verdient! Wir haben ein Recht auf einen lebenswerten Planeten\, auf eine gute Zukunft\, auf sichere Jobs und eine gerechte Gesellschaft. \nWir haben dafür gesorgt\, dass die aktuelle Regierung mehr Klimaversprechen gemacht hat\, als jede Regierung davor. Doch die Lage ist eindeutig: Was die Ampel macht\, reicht nicht aus. Bis 2030 werden – Stand jetzt – 331 Millionen Tonnen CO zu viel emittiert und das sogar bezogen auf die noch immer unzureichenden Klimaziele. \nStatt mit großen Schritten voranzugehen\, zerstreiten sich die Regierungsparteien im Klein-Klein. Politiker*innen der Bundesregierung behaupten\, Klimaschutz würde den sozialen Rückhalt in der Bevölkerung gefährden. Das ist verlogen\, wo doch endlos gute Vorschläge für guten UND gerechten Klimaschutz auf dem Tisch liegen. Das Klimageld ist dafür das beste Beispiel. Spätestens jetzt ist klar: Der Ampel ist weder an echtem Klimaschutz noch an sozialer Gerechtigkeit gelegen. \nUnd noch mehr als das: Die Ampelkoalition will Erfolge\, die wir in den letzten fünf Jahren Klimastreik erkämpft haben\, rückgängig machen. \nNach fünf Jahren Klimastreik\, in denen wir das Klimaschutzgesetz und den Kohleausstieg erkämpft\, eine Klage vor dem Bundesverfassungsgericht gewonnen\, und Millionen von Menschen mit uns auf die Straße gegangen sind\, sind wir enttäuscht. \nDie Hälfte der Legislaturperiode ist vorbei. Vom klimapolitischen Fortschritt sind wir in den Stillstand gerutscht und jetzt drohen reale Rückschritte wie die Aufweichung des Klimaschutzgesetzes. Das müssen wir verhindern! \nWir gehen nicht gegen die Menschen auf die Straße\, die morgens auf dem Weg zur Arbeit im Stau stehen\, oder gegen diejenigen\, die es sich nicht leisten können\, nachhaltige Produkte zu kaufen. Wir mobilisieren gegen diejenigen\, die die Klimakrise erst verursacht haben: die fossile Industrie\, Kohle\, Öl und Gaskonzerne – und eine Politik\, die fossile Profite über Menschenleben stellt. Es ist unsere Verantwortung das Zeitalter von Kohle\, Öl und Gas zu beenden und Klimagerechtigkeit zur Realität zu machen. \nWas wir fordern ist kein Hexenwerk: das Klimageld\, eine Verschärfung des Klimaschutzgesetzes\, höhere Investitionen in den ÖPNV und ein Ende fossiler Subventionen. Es ist das Notwendigste. Das Mindeste\, was erfüllt werden muss\, wenn sich die Bundesregierung an ihre eigenen Ziele und unterschriebene Abkommen halten will. \nDie Zeit des Klein-Kleins ist vorbei. Um die Klimakrise noch einzudämmen und Menschen dabei mitzunehmen\, braucht es jetzt radikal mutige Schritte. Dabei sind soziale Gerechtigkeit und wirksamer Klimaschutz untrennbar.\nWir wissen: Als wir das letzte Mal gemeinsam auf die Straße gegangen sind\, haben wir die Welt verändert und Geschichte geschrieben. Let’s do it again.
URL:http://atilla-sarikaya.de/termin/fridays-for-future-klimastreik/
LOCATION:Rathaus Kassel\, Obere Königsstraße 8\, Kassel\, 34117
CATEGORIES:Veranstaltung
END:VEVENT
BEGIN:VEVENT
DTSTART;TZID=Europe/Berlin:20230914T170000
DTEND;TZID=Europe/Berlin:20230914T190000
DTSTAMP:20260423T152504
CREATED:20230911T193647Z
LAST-MODIFIED:20230911T193647Z
UID:654-1694710800-1694718000@atilla-sarikaya.de
SUMMARY:DGB Podium
DESCRIPTION:Hessen gerecht gestalten! Der DGB-Kreisverband Kassel und die DGB-Jugend Nordhessen laden ein zur Diskussion mit den Landtagskandidat:innen
URL:http://atilla-sarikaya.de/termin/dgb-podium/
LOCATION:DGB-Haus\, Spohrstr. 6-8\, Kassel
CATEGORIES:Veranstaltung
END:VEVENT
BEGIN:VEVENT
DTSTART;TZID=Europe/Berlin:20230902T150000
DTEND;TZID=Europe/Berlin:20230902T220000
DTSTAMP:20260423T152504
CREATED:20230814T101337Z
LAST-MODIFIED:20230827T111045Z
UID:618-1693666800-1693692000@atilla-sarikaya.de
SUMMARY:Internationales Familienfest
DESCRIPTION:Von hier aus wollen wir dann gestärkt ausziehen\, um viele in Nordhessen für uns und den gemeinsamen Kampf für eine friedliche\, eine solidarische\, eine klimagerechte Gesellschaft zu gewinnen. Diese Welt ist zu schön\, um sie den Superreichen und Konzernen zu überlassen. Deswegen feiert mit uns\, bringt Familien und Interessierte mit. \nWas erwartet euch? \nWir schmeißen den Grill an\, lauschen den Klängen der Sängerin Vanessa Arly und lassen uns vom Rapper Lebensmittelmüde anfeuern. Gegen 17:30 wird der chilenische Sänger und Musiker Rey Valencia sein Soloprogramm „Amor y Revoluciòn“ spielen. 50 Jahre nach dem Militärputsch in Chile\, präsentiert er Protest- und Volksliedern aus Lateinamerika\, die von Widerstand\, Hoffnung\, Solidarität und Menschlichkeit handeln. Gegen 19 Uhr wird uns die multinationale Band Cumbia Casselera mit südamerikanischen Melodien und Rhythmen\, gemischt mit Afro-pop\, Blues\, Jazz und Hip-Hop mit positiver Energie versorgen und zum Tanzen einladen. Zum Abschluss legt DJ Drumsci auf\, der als Abu Hajar in Syrien durch seinen politisch aufgeladenen Rap Bekanntheit erlangte. Trotz politischer Inhaftierung und anschließendem Exil zwischen Italien und Deutschland\, hat er sich als DJ Drumsci neu erfunden und verbindet orientalische Deep-House-Musik mit Hip Hop und Bass-Musik. Und natürlich stehen wir all die Zeit für Gespräche und zum Kennenlernen zur Verfügung\, können alle mit Material versorgen und haben auch für Kinder und Jugendliche etwas zu bieten. Denn gerade in dieser Zeit\, gerade in Hessen gilt es viele zusammen zu bringen\, um den gemeinsamen Kampf für soziale Gerechtigkeit aufzunehmen und mit Leben zu füllen. \n 
URL:http://atilla-sarikaya.de/termin/internationales-familienfest/
LOCATION:DIE LINKE Parteibüro\, Schillerstr. 21\, Kassel\, 34117
CATEGORIES:Veranstaltung
ATTACH;FMTTYPE=image/jpeg:http://atilla-sarikaya.de/wp-content/uploads/2023/08/370478716_698982355603710_3580615812498181556_n-scaled.jpg
END:VEVENT
BEGIN:VEVENT
DTSTART;TZID=Europe/Berlin:20230831T150000
DTEND;TZID=Europe/Berlin:20230831T170000
DTSTAMP:20260423T152504
CREATED:20230814T101058Z
LAST-MODIFIED:20230814T101417Z
UID:615-1693494000-1693501200@atilla-sarikaya.de
SUMMARY:Spielplatztour
DESCRIPTION:Treffpunkt Spielplatz! Vor Ort mit dem Fahrradmobil zur Zukunft der Kinder. Immer 15-17 Uhr bei schönem Wetter.
URL:http://atilla-sarikaya.de/termin/spielplatztour-4/
LOCATION:Heiligenbergstr.
CATEGORIES:Spielplatztour
END:VEVENT
BEGIN:VEVENT
DTSTART;TZID=Europe/Berlin:20230830T150000
DTEND;TZID=Europe/Berlin:20230830T170000
DTSTAMP:20260423T152504
CREATED:20230814T101001Z
LAST-MODIFIED:20230814T101442Z
UID:613-1693407600-1693414800@atilla-sarikaya.de
SUMMARY:Spielplatztour
DESCRIPTION:Treffpunkt Spielplatz! Vor Ort mit dem Fahrradmobil zur Zukunft der Kinder. Immer 15-17 Uhr bei schönem Wetter.
URL:http://atilla-sarikaya.de/termin/spielplatztour-3/
CATEGORIES:Spielplatztour
END:VEVENT
BEGIN:VEVENT
DTSTART;TZID=Europe/Berlin:20230818T150000
DTEND;TZID=Europe/Berlin:20230818T170000
DTSTAMP:20260423T152504
CREATED:20230814T100800Z
LAST-MODIFIED:20230814T101507Z
UID:610-1692370800-1692378000@atilla-sarikaya.de
SUMMARY:Spielplatztour
DESCRIPTION:Treffpunkt Spielplatz! Vor Ort mit dem Fahrradmobil zur Zukunft der Kinder. Immer 15-17 Uhr bei schönem Wetter.
URL:http://atilla-sarikaya.de/termin/spielplatztour-2/
LOCATION:Goetheanlage
CATEGORIES:Spielplatztour
END:VEVENT
BEGIN:VEVENT
DTSTART;TZID=Europe/Berlin:20230816T150000
DTEND;TZID=Europe/Berlin:20230816T170000
DTSTAMP:20260423T152504
CREATED:20230814T100329Z
LAST-MODIFIED:20230814T101526Z
UID:606-1692198000-1692205200@atilla-sarikaya.de
SUMMARY:Spielplatztour
DESCRIPTION:Treffpunkt Spielplatz! Vor Ort mit dem Fahrradmobil zur Zukunft der Kinder. Immer 15-17 Uhr bei schönem Wetter.
URL:http://atilla-sarikaya.de/termin/spielplatztour/
LOCATION:Spielplatz Rothenbergsiedlung\, Rothenditmold
CATEGORIES:Spielplatztour
END:VEVENT
END:VCALENDAR